Package: ecoliLeucine Version: 1.50.0 Command: /home/biocbuild/bbs-3.22-bioc/R/bin/R CMD build --keep-empty-dirs --no-resave-data ecoliLeucine StartedAt: 2025-11-06 11:16:18 -0500 (Thu, 06 Nov 2025) EndedAt: 2025-11-06 11:16:19 -0500 (Thu, 06 Nov 2025) EllapsedTime: 1.3 seconds RetCode: 0 Status: OK PackageFile: ecoliLeucine_1.50.0.tar.gz PackageFileSize: 5.936 MiB