Package: dyebiasexamples Version: 1.50.0 Command: /home/biocbuild/bbs-3.22-bioc/R/bin/R CMD build --keep-empty-dirs --no-resave-data dyebiasexamples StartedAt: 2025-11-06 11:16:08 -0500 (Thu, 06 Nov 2025) EndedAt: 2025-11-06 11:16:15 -0500 (Thu, 06 Nov 2025) EllapsedTime: 7.3 seconds RetCode: 0 Status: OK PackageFile: dyebiasexamples_1.50.0.tar.gz PackageFileSize: 15.2 MiB