Package: dressCheck Version: 0.48.0 Command: /home/biocbuild/bbs-3.22-bioc/R/bin/R CMD build --keep-empty-dirs --no-resave-data dressCheck StartedAt: 2025-11-06 11:15:39 -0500 (Thu, 06 Nov 2025) EndedAt: 2025-11-06 11:16:04 -0500 (Thu, 06 Nov 2025) EllapsedTime: 24.6 seconds RetCode: 0 Status: OK PackageFile: dressCheck_0.48.0.tar.gz PackageFileSize: 65.75 MiB