Package: dorothea Version: 1.22.0 Command: /home/biocbuild/bbs-3.22-bioc/R/bin/R CMD INSTALL dorothea StartedAt: 2025-11-25 10:56:29 -0500 (Tue, 25 Nov 2025) EndedAt: 2025-11-25 10:57:12 -0500 (Tue, 25 Nov 2025) EllapsedTime: 43.2 seconds RetCode: 0 Status: OK