Package: diggitdata Version: 1.42.0 Command: /home/biocbuild/bbs-3.22-bioc/R/bin/R CMD build --keep-empty-dirs --no-resave-data diggitdata StartedAt: 2025-11-06 11:15:03 -0500 (Thu, 06 Nov 2025) EndedAt: 2025-11-06 11:15:26 -0500 (Thu, 06 Nov 2025) EllapsedTime: 23.1 seconds RetCode: 0 Status: OK PackageFile: diggitdata_1.42.0.tar.gz PackageFileSize: 47.39 MiB