Package: diggitdata Version: 1.42.0 Maintainer: Mariano Javier Alvarez MaintainerEmail: reef103 at gmail.com git_url: https://git.bioconductor.org/packages/diggitdata git_branch: RELEASE_3_22 git_last_commit: 151b027 git_last_commit_date: 2025-10-29 09:56:09 -0500 (Wed, 29 Oct 2025)