Package: diffloopdata Version: 1.38.0 Command: /home/biocbuild/bbs-3.22-bioc/R/bin/R CMD check --install=check:diffloopdata.install-out.txt --library=/home/biocbuild/bbs-3.22-bioc/R/site-library --timings diffloopdata_1.38.0.tar.gz StartedAt: 2025-11-06 12:12:44 -0500 (Thu, 06 Nov 2025) EndedAt: 2025-11-06 12:12:56 -0500 (Thu, 06 Nov 2025) EllapsedTime: 12.0 seconds RetCode: 0 Status: OK CheckDir: diffloopdata.Rcheck Warnings: 0