Package: derfinderData Version: 2.28.0 Command: /home/biocbuild/bbs-3.22-bioc/R/bin/R CMD INSTALL derfinderData StartedAt: 2025-11-06 10:55:51 -0500 (Thu, 06 Nov 2025) EndedAt: 2025-11-06 10:55:53 -0500 (Thu, 06 Nov 2025) EllapsedTime: 2.0 seconds RetCode: 0 Status: OK