Package: depmap Version: 1.24.0 Command: /home/biocbuild/bbs-3.22-bioc/R/bin/R CMD INSTALL depmap StartedAt: 2025-11-06 10:57:10 -0500 (Thu, 06 Nov 2025) EndedAt: 2025-11-06 10:57:24 -0500 (Thu, 06 Nov 2025) EllapsedTime: 14.6 seconds RetCode: 0 Status: OK