Package: davidTiling Version: 1.50.0 Command: /home/biocbuild/bbs-3.22-bioc/R/bin/R CMD INSTALL davidTiling StartedAt: 2025-11-06 10:57:27 -0500 (Thu, 06 Nov 2025) EndedAt: 2025-11-06 10:58:21 -0500 (Thu, 06 Nov 2025) EllapsedTime: 53.4 seconds RetCode: 0 Status: OK