Package: curatedTCGAData Version: 1.32.0 Command: /home/biocbuild/bbs-3.22-bioc/R/bin/R CMD build --keep-empty-dirs --no-resave-data curatedTCGAData StartedAt: 2025-11-06 11:13:33 -0500 (Thu, 06 Nov 2025) EndedAt: 2025-11-06 11:14:47 -0500 (Thu, 06 Nov 2025) EllapsedTime: 74.2 seconds RetCode: 0 Status: OK PackageFile: curatedTCGAData_1.32.0.tar.gz PackageFileSize: 417.1 KiB