Package: curatedTBData Version: 2.6.0 Command: /home/biocbuild/bbs-3.22-bioc/R/bin/R CMD INSTALL curatedTBData StartedAt: 2025-11-06 10:59:09 -0500 (Thu, 06 Nov 2025) EndedAt: 2025-11-06 10:59:36 -0500 (Thu, 06 Nov 2025) EllapsedTime: 27.6 seconds RetCode: 0 Status: OK