Package: curatedPCaData Version: 1.6.0 Command: /home/biocbuild/bbs-3.22-bioc/R/bin/R CMD build --keep-empty-dirs --no-resave-data curatedPCaData StartedAt: 2025-11-06 11:12:35 -0500 (Thu, 06 Nov 2025) EndedAt: 2025-11-06 11:19:00 -0500 (Thu, 06 Nov 2025) EllapsedTime: 384.6 seconds RetCode: 0 Status: OK PackageFile: curatedPCaData_1.6.0.tar.gz PackageFileSize: 2.936 MiB