Package: curatedOvarianData Version: 1.48.0 Command: /home/biocbuild/bbs-3.22-bioc/R/bin/R CMD build --keep-empty-dirs --no-resave-data curatedOvarianData StartedAt: 2025-11-06 11:12:35 -0500 (Thu, 06 Nov 2025) EndedAt: 2025-11-06 11:15:00 -0500 (Thu, 06 Nov 2025) EllapsedTime: 145.1 seconds RetCode: 0 Status: OK PackageFile: curatedOvarianData_1.48.0.tar.gz PackageFileSize: 381.3 MiB