Package: curatedCRCData Version: 2.42.0 Command: /home/biocbuild/bbs-3.22-bioc/R/bin/R CMD INSTALL curatedCRCData StartedAt: 2025-11-06 10:56:19 -0500 (Thu, 06 Nov 2025) EndedAt: 2025-11-06 10:56:25 -0500 (Thu, 06 Nov 2025) EllapsedTime: 6.7 seconds RetCode: 0 Status: OK