Package: curatedCRCData Version: 2.42.0 Command: /home/biocbuild/bbs-3.22-bioc/R/bin/R CMD build --keep-empty-dirs --no-resave-data curatedCRCData StartedAt: 2025-11-06 11:12:11 -0500 (Thu, 06 Nov 2025) EndedAt: 2025-11-06 11:13:41 -0500 (Thu, 06 Nov 2025) EllapsedTime: 89.8 seconds RetCode: 0 Status: OK PackageFile: curatedCRCData_2.42.0.tar.gz PackageFileSize: 398.8 MiB