Package: curatedBreastData Version: 2.38.0 Command: /home/biocbuild/bbs-3.22-bioc/R/bin/R CMD build --keep-empty-dirs --no-resave-data curatedBreastData StartedAt: 2025-11-06 11:11:54 -0500 (Thu, 06 Nov 2025) EndedAt: 2025-11-06 11:13:33 -0500 (Thu, 06 Nov 2025) EllapsedTime: 99.3 seconds RetCode: 0 Status: OK PackageFile: curatedBreastData_2.38.0.tar.gz PackageFileSize: 283.1 MiB