Package: curatedBladderData Version: 1.46.0 Command: /home/biocbuild/bbs-3.22-bioc/R/bin/R CMD INSTALL curatedBladderData StartedAt: 2025-11-06 10:56:09 -0500 (Thu, 06 Nov 2025) EndedAt: 2025-11-06 10:56:12 -0500 (Thu, 06 Nov 2025) EllapsedTime: 2.7 seconds RetCode: 0 Status: OK