Package: curatedAdipoRNA Version: 1.26.0 Command: /home/biocbuild/bbs-3.22-bioc/R/bin/R CMD INSTALL curatedAdipoRNA StartedAt: 2025-11-06 11:01:48 -0500 (Thu, 06 Nov 2025) EndedAt: 2025-11-06 11:02:09 -0500 (Thu, 06 Nov 2025) EllapsedTime: 21.4 seconds RetCode: 0 Status: OK