Package: curatedAdipoRNA Version: 1.26.0 Command: /home/biocbuild/bbs-3.22-bioc/R/bin/R CMD build --keep-empty-dirs --no-resave-data curatedAdipoRNA StartedAt: 2025-11-06 11:11:50 -0500 (Thu, 06 Nov 2025) EndedAt: 2025-11-06 11:13:17 -0500 (Thu, 06 Nov 2025) EllapsedTime: 87.3 seconds RetCode: 0 Status: OK PackageFile: curatedAdipoRNA_1.26.0.tar.gz PackageFileSize: 5.548 MiB