Package: curatedAdipoChIP Version: 1.26.0 Command: /home/biocbuild/bbs-3.22-bioc/R/bin/R CMD INSTALL curatedAdipoChIP StartedAt: 2025-11-06 11:00:23 -0500 (Thu, 06 Nov 2025) EndedAt: 2025-11-06 11:00:49 -0500 (Thu, 06 Nov 2025) EllapsedTime: 25.1 seconds RetCode: 0 Status: OK