Package: curatedAdipoChIP Version: 1.26.0 Maintainer: Mahmoud Ahmed MaintainerEmail: mahmoud.s.fahmy at students.kasralainy.edu.eg git_url: https://git.bioconductor.org/packages/curatedAdipoChIP git_branch: RELEASE_3_22 git_last_commit: 21916dd git_last_commit_date: 2025-10-29 10:01:32 -0500 (Wed, 29 Oct 2025)