Package: curatedAdipoArray Version: 1.22.0 Command: /home/biocbuild/bbs-3.22-bioc/R/bin/R CMD build --keep-empty-dirs --no-resave-data curatedAdipoArray StartedAt: 2025-11-06 11:11:37 -0500 (Thu, 06 Nov 2025) EndedAt: 2025-11-06 11:11:53 -0500 (Thu, 06 Nov 2025) EllapsedTime: 16.0 seconds RetCode: 0 Status: OK PackageFile: curatedAdipoArray_1.22.0.tar.gz PackageFileSize: 36.26 KiB