Package: crisprScoreData Version: 1.14.0 Command: /home/biocbuild/bbs-3.22-bioc/R/bin/R CMD INSTALL crisprScoreData StartedAt: 2025-11-06 10:57:37 -0500 (Thu, 06 Nov 2025) EndedAt: 2025-11-06 10:57:50 -0500 (Thu, 06 Nov 2025) EllapsedTime: 13.4 seconds RetCode: 0 Status: OK