Package: crisprScoreData Version: 1.14.0 Command: /home/biocbuild/bbs-3.22-bioc/R/bin/R CMD build --keep-empty-dirs --no-resave-data crisprScoreData StartedAt: 2025-11-06 11:11:36 -0500 (Thu, 06 Nov 2025) EndedAt: 2025-11-06 11:12:11 -0500 (Thu, 06 Nov 2025) EllapsedTime: 34.6 seconds RetCode: 0 Status: OK PackageFile: crisprScoreData_1.14.0.tar.gz PackageFileSize: 6.089 MiB