Package: chromstaRData Version: 1.36.0 Command: /home/biocbuild/bbs-3.22-bioc/R/bin/R CMD build --keep-empty-dirs --no-resave-data chromstaRData StartedAt: 2025-11-06 11:10:08 -0500 (Thu, 06 Nov 2025) EndedAt: 2025-11-06 11:10:19 -0500 (Thu, 06 Nov 2025) EllapsedTime: 11.0 seconds RetCode: 0 Status: OK PackageFile: chromstaRData_1.36.0.tar.gz PackageFileSize: 140.2 MiB