Package: chromstaRData Version: 1.34.0 Command: /home/biocbuild/bbs-3.21-bioc/R/bin/R CMD build --keep-empty-dirs --no-resave-data chromstaRData StartedAt: 2025-10-02 11:08:42 -0400 (Thu, 02 Oct 2025) EndedAt: 2025-10-02 11:08:53 -0400 (Thu, 02 Oct 2025) EllapsedTime: 11.0 seconds RetCode: 0 Status: OK PackageFile: chromstaRData_1.34.0.tar.gz PackageFileSize: 140.2 MiB