Package: chipseqDBData Version: 1.26.0 Command: /home/biocbuild/bbs-3.22-bioc/R/bin/R CMD INSTALL chipseqDBData StartedAt: 2025-11-06 11:00:30 -0500 (Thu, 06 Nov 2025) EndedAt: 2025-11-06 11:00:46 -0500 (Thu, 06 Nov 2025) EllapsedTime: 15.9 seconds RetCode: 0 Status: OK