Package: cfToolsData Version: 1.8.0 Command: /home/biocbuild/bbs-3.22-bioc/R/bin/R CMD INSTALL cfToolsData StartedAt: 2025-11-06 10:57:13 -0500 (Thu, 06 Nov 2025) EndedAt: 2025-11-06 10:57:25 -0500 (Thu, 06 Nov 2025) EllapsedTime: 12.6 seconds RetCode: 0 Status: OK