Package: cfToolsData Version: 1.8.0 Command: /home/biocbuild/bbs-3.22-bioc/R/bin/R CMD build --keep-empty-dirs --no-resave-data cfToolsData StartedAt: 2025-11-06 11:09:30 -0500 (Thu, 06 Nov 2025) EndedAt: 2025-11-06 11:09:59 -0500 (Thu, 06 Nov 2025) EllapsedTime: 29.1 seconds RetCode: 0 Status: OK PackageFile: cfToolsData_1.8.0.tar.gz PackageFileSize: 413 KiB