Package: celldex Version: 1.20.0 Command: /home/biocbuild/bbs-3.22-bioc/R/bin/R CMD build --keep-empty-dirs --no-resave-data celldex StartedAt: 2025-11-06 11:08:51 -0500 (Thu, 06 Nov 2025) EndedAt: 2025-11-06 11:09:42 -0500 (Thu, 06 Nov 2025) EllapsedTime: 51.2 seconds RetCode: 0 Status: OK PackageFile: celldex_1.20.0.tar.gz PackageFileSize: 402.6 KiB