Package: celldex Version: 1.20.0 Maintainer: Aaron Lun MaintainerEmail: infinite.monkeys.with.keyboards at gmail.com git_url: https://git.bioconductor.org/packages/celldex git_branch: RELEASE_3_22 git_last_commit: 4db42c8 git_last_commit_date: 2025-10-29 10:02:39 -0500 (Wed, 29 Oct 2025)