Package: celarefData Version: 1.28.0 Command: /home/biocbuild/bbs-3.22-bioc/R/bin/R CMD build --keep-empty-dirs --no-resave-data celarefData StartedAt: 2025-11-06 11:08:46 -0500 (Thu, 06 Nov 2025) EndedAt: 2025-11-06 11:09:17 -0500 (Thu, 06 Nov 2025) EllapsedTime: 30.8 seconds RetCode: 0 Status: OK PackageFile: celarefData_1.28.0.tar.gz PackageFileSize: 231.4 KiB