Package: ccdata Version: 1.36.0 Command: /home/biocbuild/bbs-3.22-bioc/R/bin/R CMD build --keep-empty-dirs --no-resave-data ccdata StartedAt: 2025-11-06 11:08:41 -0500 (Thu, 06 Nov 2025) EndedAt: 2025-11-06 11:09:34 -0500 (Thu, 06 Nov 2025) EllapsedTime: 52.3 seconds RetCode: 0 Status: OK PackageFile: ccdata_1.36.0.tar.gz PackageFileSize: 893.9 MiB