Package: cMap2data Version: 1.44.0 Command: /home/biocbuild/bbs-3.21-bioc/R/bin/R CMD INSTALL cMap2data StartedAt: 2025-09-30 10:55:09 -0400 (Tue, 30 Sep 2025) EndedAt: 2025-09-30 10:55:19 -0400 (Tue, 30 Sep 2025) EllapsedTime: 10.1 seconds RetCode: 0 Status: OK