Package: bugphyzz Version: 1.4.0 Command: /home/biocbuild/bbs-3.22-bioc/R/bin/R CMD build --keep-empty-dirs --no-resave-data bugphyzz StartedAt: 2025-11-06 11:08:37 -0500 (Thu, 06 Nov 2025) EndedAt: 2025-11-06 11:09:40 -0500 (Thu, 06 Nov 2025) EllapsedTime: 62.2 seconds RetCode: 0 Status: OK PackageFile: bugphyzz_1.4.0.tar.gz PackageFileSize: 887.5 KiB