Package: bugphyzz Version: 1.4.0 Maintainer: Samuel Gamboa MaintainerEmail: Samuel.Gamboa.Tuz at gmail.com git_url: https://git.bioconductor.org/packages/bugphyzz git_branch: RELEASE_3_22 git_last_commit: 1ab92d5 git_last_commit_date: 2025-10-29 10:06:34 -0500 (Wed, 29 Oct 2025)