Package: bsseqData Version: 0.48.0 Command: /home/biocbuild/bbs-3.22-bioc/R/bin/R CMD INSTALL bsseqData StartedAt: 2025-11-06 11:00:58 -0500 (Thu, 06 Nov 2025) EndedAt: 2025-11-06 11:01:48 -0500 (Thu, 06 Nov 2025) EllapsedTime: 49.4 seconds RetCode: 0 Status: OK