Package: bronchialIL13 Version: 1.48.0 Command: /home/biocbuild/bbs-3.22-bioc/R/bin/R CMD INSTALL bronchialIL13 StartedAt: 2025-11-06 10:56:09 -0500 (Thu, 06 Nov 2025) EndedAt: 2025-11-06 10:56:14 -0500 (Thu, 06 Nov 2025) EllapsedTime: 4.6 seconds RetCode: 0 Status: OK