Package: brgedata Version: 1.32.0 Command: /home/biocbuild/bbs-3.22-bioc/R/bin/R CMD INSTALL brgedata StartedAt: 2025-11-27 10:58:40 -0500 (Thu, 27 Nov 2025) EndedAt: 2025-11-27 10:59:51 -0500 (Thu, 27 Nov 2025) EllapsedTime: 71.1 seconds RetCode: 0 Status: OK