Package: breakpointRdata Version: 1.28.0 Command: /home/biocbuild/bbs-3.22-bioc/R/bin/R CMD INSTALL breakpointRdata StartedAt: 2025-11-06 10:55:52 -0500 (Thu, 06 Nov 2025) EndedAt: 2025-11-06 10:55:54 -0500 (Thu, 06 Nov 2025) EllapsedTime: 2.4 seconds RetCode: 0 Status: OK