Package: breakpointRdata Version: 1.28.0 Command: /home/biocbuild/bbs-3.22-bioc/R/bin/R CMD build --keep-empty-dirs --no-resave-data breakpointRdata StartedAt: 2025-11-06 11:08:24 -0500 (Thu, 06 Nov 2025) EndedAt: 2025-11-06 11:08:41 -0500 (Thu, 06 Nov 2025) EllapsedTime: 16.8 seconds RetCode: 0 Status: OK PackageFile: breakpointRdata_1.28.0.tar.gz PackageFileSize: 69.47 MiB