Package: bodymapRat Version: 1.26.0 Command: /home/biocbuild/bbs-3.22-bioc/R/bin/R CMD INSTALL bodymapRat StartedAt: 2025-11-06 11:00:05 -0500 (Thu, 06 Nov 2025) EndedAt: 2025-11-06 11:00:31 -0500 (Thu, 06 Nov 2025) EllapsedTime: 26.1 seconds RetCode: 0 Status: OK