Package: blimaTestingData Version: 1.30.0 Command: /home/biocbuild/bbs-3.22-bioc/R/bin/R CMD INSTALL blimaTestingData StartedAt: 2025-11-06 10:55:25 -0500 (Thu, 06 Nov 2025) EndedAt: 2025-11-06 10:55:28 -0500 (Thu, 06 Nov 2025) EllapsedTime: 2.1 seconds RetCode: 0 Status: OK