Package: blimaTestingData Version: 1.30.0 Command: /home/biocbuild/bbs-3.22-bioc/R/bin/R CMD check --install=check:blimaTestingData.install-out.txt --library=/home/biocbuild/bbs-3.22-bioc/R/site-library --timings blimaTestingData_1.30.0.tar.gz StartedAt: 2025-11-13 12:03:36 -0500 (Thu, 13 Nov 2025) EndedAt: 2025-11-13 12:05:01 -0500 (Thu, 13 Nov 2025) EllapsedTime: 84.9 seconds RetCode: 0 Status: OK CheckDir: blimaTestingData.Rcheck Warnings: 0