Package: blimaTestingData Version: 1.30.0 Command: /home/biocbuild/bbs-3.22-bioc/R/bin/R CMD build --keep-empty-dirs --no-resave-data blimaTestingData StartedAt: 2025-11-06 11:07:58 -0500 (Thu, 06 Nov 2025) EndedAt: 2025-11-06 11:08:38 -0500 (Thu, 06 Nov 2025) EllapsedTime: 40.4 seconds RetCode: 0 Status: OK PackageFile: blimaTestingData_1.30.0.tar.gz PackageFileSize: 98.28 MiB