Package: bladderbatch Version: 1.48.0 Command: /home/biocbuild/bbs-3.22-bioc/R/bin/R CMD check --install=check:bladderbatch.install-out.txt --library=/home/biocbuild/bbs-3.22-bioc/R/site-library --timings bladderbatch_1.48.0.tar.gz StartedAt: 2025-11-20 12:12:37 -0500 (Thu, 20 Nov 2025) EndedAt: 2025-11-20 12:13:05 -0500 (Thu, 20 Nov 2025) EllapsedTime: 27.9 seconds RetCode: 0 Status: WARNINGS CheckDir: bladderbatch.Rcheck Warnings: 1