Package: bladderbatch Version: 1.48.0 Command: /home/biocbuild/bbs-3.22-bioc/R/bin/R CMD build --keep-empty-dirs --no-resave-data bladderbatch StartedAt: 2025-11-06 11:07:58 -0500 (Thu, 06 Nov 2025) EndedAt: 2025-11-06 11:08:04 -0500 (Thu, 06 Nov 2025) EllapsedTime: 6.3 seconds RetCode: 0 Status: OK PackageFile: bladderbatch_1.48.0.tar.gz PackageFileSize: 9.197 MiB