Package: beadarrayExampleData Version: 1.48.0 Command: /home/biocbuild/bbs-3.22-bioc/R/bin/R CMD INSTALL beadarrayExampleData StartedAt: 2025-11-06 10:57:56 -0500 (Thu, 06 Nov 2025) EndedAt: 2025-11-06 10:58:07 -0500 (Thu, 06 Nov 2025) EllapsedTime: 11.1 seconds RetCode: 0 Status: OK