Package: affydata Version: 1.58.0 Command: /home/biocbuild/bbs-3.22-bioc/R/bin/R CMD INSTALL affydata StartedAt: 2025-11-06 10:57:35 -0500 (Thu, 06 Nov 2025) EndedAt: 2025-11-06 10:57:38 -0500 (Thu, 06 Nov 2025) EllapsedTime: 3.0 seconds RetCode: 0 Status: OK